BEGIN:VCALENDAR
VERSION:2.0
PRODID:-//Wildshut, ein Liebesbeweis an unser Bier - ECPv6.15.20//NONSGML v1.0//EN
CALSCALE:GREGORIAN
METHOD:PUBLISH
X-WR-CALNAME:Wildshut, ein Liebesbeweis an unser Bier
X-ORIGINAL-URL:https://www.wildshut.at
X-WR-CALDESC:Veranstaltungen für Wildshut, ein Liebesbeweis an unser Bier
REFRESH-INTERVAL;VALUE=DURATION:PT1H
X-Robots-Tag:noindex
X-PUBLISHED-TTL:PT1H
BEGIN:VTIMEZONE
TZID:Europe/Vienna
BEGIN:DAYLIGHT
TZOFFSETFROM:+0100
TZOFFSETTO:+0200
TZNAME:CEST
DTSTART:20240331T010000
END:DAYLIGHT
BEGIN:STANDARD
TZOFFSETFROM:+0200
TZOFFSETTO:+0100
TZNAME:CET
DTSTART:20241027T010000
END:STANDARD
BEGIN:DAYLIGHT
TZOFFSETFROM:+0100
TZOFFSETTO:+0200
TZNAME:CEST
DTSTART:20250330T010000
END:DAYLIGHT
BEGIN:STANDARD
TZOFFSETFROM:+0200
TZOFFSETTO:+0100
TZNAME:CET
DTSTART:20251026T010000
END:STANDARD
BEGIN:DAYLIGHT
TZOFFSETFROM:+0100
TZOFFSETTO:+0200
TZNAME:CEST
DTSTART:20260329T010000
END:DAYLIGHT
BEGIN:STANDARD
TZOFFSETFROM:+0200
TZOFFSETTO:+0100
TZNAME:CET
DTSTART:20261025T010000
END:STANDARD
END:VTIMEZONE
BEGIN:VEVENT
DTSTART;TZID=Europe/Vienna:20250404T140000
DTEND;TZID=Europe/Vienna:20250405T190000
DTSTAMP:20260420T120129
CREATED:20241211T112219Z
LAST-MODIFIED:20250326T134939Z
UID:10000266-1743775200-1743879600@www.wildshut.at
SUMMARY:Wildshut KreativWerkstatt
DESCRIPTION:DEM FLECHTEN VON SCHÖNEN DINGEN WOHNT EIN ZAUBER INNE. \nDie Flechtkunst mit Weide und anderen Naturmaterialien blickt auf eine Jahrtausende alte Tradition zurück\, die meine Leidenschaft für dieses Handwerk entfacht hat. \nErleben Sie kreative und inspirierende Stunden im schönen Ambiente des Stieg-Guts in Wildshut und lassen Sie sich auf das wunderbare Handwerk des Korbflechtens ein. \nZiel dieses Workshops ist es\, in einem auf die Gruppe abgestimmten Programm ohne Zeitdruck und Stress einen Korb zu flechten. Durch verschiedene Materialien\, Techniken\, vor allem aber auch durch individuelle Kreativität entstehen einzigartige Werke\, die diese alte Handwerkskunst mit neuen Ideen vereint. \n  \nTermin: Freitag\, 4.04. 2025 14:00 – 18:00 Uhr Samstag\, 5.04.2025 9:00 – 19:00 Uhr \n\nBegrüßung\nKleine Materialkunde\nEinführung in die verschiedenen Flechttechniken\nHerstellung und Gestaltung eines eigenen Korbes\n\nTeilnehmer: mind. 5\, max. 8\nTeilnahmegebühr: 205.- inkl. Grundmaterial und Verpflegung (Mittagessen\, Kaffee & Kuchen\, alkoholfreie Getränke) \nWerkzeug wird zur Verfügung gestellt. \nBesonders geeignet ist dieser Kurs für Anfänger! \n>>per Mail<<\n>>zum Anmeldeformular<<\n>>per Telefon<<
URL:https://www.wildshut.at/event/korbflechtkurs-am-wildshut/
CATEGORIES:KreativWerkstatt
END:VEVENT
BEGIN:VEVENT
DTSTART;TZID=Europe/Vienna:20250427T100000
DTEND;TZID=Europe/Vienna:20250427T130000
DTSTAMP:20260420T120129
CREATED:20250217T095922Z
LAST-MODIFIED:20250612T105357Z
UID:10000295-1745748000-1745758800@www.wildshut.at
SUMMARY:Hopfen & Herzhaftes - Frühschoppen
DESCRIPTION:Ab dem 27. April 2025 laden wir Sie einmal im Monat von 10:00 bis 13:00 Uhr zu unserem genussvollen Frühschoppen am Stiegl-Gut Wildshut ein. \nFreuen Sie sich auf eine köstliche Auswahl regionaler Schmankerl und die unverwechselbare Wildshut Vielfalt. \nEs erwarten Sie hausgemachte Laugenbrezen & Gebäck\, herzhafte Klassiker wie Weiß- oder Bratwürste mit Sauerkraut und dazu eingelegtes Gemüse und Aufstriche – alles mit viel Liebe und besten Zutaten zubereitet. \n  \n🎵 Für eine entspannte und beschwingte Atmosphäre sorgen lokale Musikgruppen. \n💰 € 29 pro Person (inkl. einem Willkommensbier) \nKommen Sie vorbei und genießen Sie mit uns die Wildshuter Genussvielfalt! \n  \nAm 27.04.2025 sind wir mit diesem Programm beim “Unabhängigkeitstag” der unabhängigen Privatbrauereien dabei.\nDazu findet auch um 13 Uhr eine Führung über das Gut statt. Für € 19\,50 erfahren Sie Wissenswertes zum Thema Bierbrauen und unserer Philosophie “vom Boden ins Glas”. Ein Verkostungsschluck inklusive. \nEine Anmeldung zum Frühschoppen und zur anschließenden Führung ist erforderlich und kann telefonisch\, per Mail oder per WhatsApp erfolgen. \n>> Tisch reservieren <<
URL:https://www.wildshut.at/event/fruehschoppen/
CATEGORIES:Kulinarische Veranstaltungen
ATTACH;FMTTYPE=image/webp:https://www.wildshut.at/wp-content/uploads/2025/02/fruhschoppen-sgw-03-stefan-sigl-web.webp
END:VEVENT
END:VCALENDAR