BEGIN:VCALENDAR
VERSION:2.0
PRODID:-//Wildshut, ein Liebesbeweis an unser Bier - ECPv6.15.20//NONSGML v1.0//EN
CALSCALE:GREGORIAN
METHOD:PUBLISH
X-ORIGINAL-URL:https://www.wildshut.at
X-WR-CALDESC:Veranstaltungen für Wildshut, ein Liebesbeweis an unser Bier
REFRESH-INTERVAL;VALUE=DURATION:PT1H
X-Robots-Tag:noindex
X-PUBLISHED-TTL:PT1H
BEGIN:VTIMEZONE
TZID:Europe/Vienna
BEGIN:DAYLIGHT
TZOFFSETFROM:+0100
TZOFFSETTO:+0200
TZNAME:CEST
DTSTART:20240331T010000
END:DAYLIGHT
BEGIN:STANDARD
TZOFFSETFROM:+0200
TZOFFSETTO:+0100
TZNAME:CET
DTSTART:20241027T010000
END:STANDARD
BEGIN:DAYLIGHT
TZOFFSETFROM:+0100
TZOFFSETTO:+0200
TZNAME:CEST
DTSTART:20250330T010000
END:DAYLIGHT
BEGIN:STANDARD
TZOFFSETFROM:+0200
TZOFFSETTO:+0100
TZNAME:CET
DTSTART:20251026T010000
END:STANDARD
BEGIN:DAYLIGHT
TZOFFSETFROM:+0100
TZOFFSETTO:+0200
TZNAME:CEST
DTSTART:20260329T010000
END:DAYLIGHT
BEGIN:STANDARD
TZOFFSETFROM:+0200
TZOFFSETTO:+0100
TZNAME:CET
DTSTART:20261025T010000
END:STANDARD
END:VTIMEZONE
BEGIN:VEVENT
DTSTART;TZID=Europe/Vienna:20250117T160000
DTEND;TZID=Europe/Vienna:20250117T220000
DTSTAMP:20260420T162603
CREATED:20241213T185753Z
LAST-MODIFIED:20241213T185753Z
UID:10000279-1737129600-1737151200@www.wildshut.at
SUMMARY:Ein genussvoller Start ins neue Jahr: Wildshut Opening
DESCRIPTION:Genießen Sie mit uns einen genussvollen Start ins Jahr 2025!\nAm 17. Januar ab 16 Uhr laden wir Sie herzlich ein\, einen exklusiven Abend voller Genuss und Geselligkeit zu erleben. Freuen Sie sich auf eine abwechslungsreiche Bierverkostung mit unserem gesamten Biersortiment\, kulinarischen Köstlichkeiten und inspirierende Gespräche in einer entspannten Atmosphäre.\n\nFür nur 30 € erhalten Sie ein “All-you-can-drink”-Erlebnis. Die Teilnehmerzahl begrenzt und eine Anmeldung erwünscht.\nSichern Sie sich jetzt Ihren Platz und freuen Sie sich auf einen unvergesslichen Abend!\n\n\n\n\n››Hier geht’s zur Reservierung‹‹ \n 
URL:https://www.wildshut.at/event/ein-genussvoller-start-ins-neue-jahr-wildshut-opening/
CATEGORIES:Kulinarische Veranstaltungen
END:VEVENT
END:VCALENDAR