BEGIN:VCALENDAR
VERSION:2.0
PRODID:-//Wildshut, ein Liebesbeweis an unser Bier - ECPv6.15.20//NONSGML v1.0//EN
CALSCALE:GREGORIAN
METHOD:PUBLISH
X-ORIGINAL-URL:https://www.wildshut.at
X-WR-CALDESC:Veranstaltungen für Wildshut, ein Liebesbeweis an unser Bier
REFRESH-INTERVAL;VALUE=DURATION:PT1H
X-Robots-Tag:noindex
X-PUBLISHED-TTL:PT1H
BEGIN:VTIMEZONE
TZID:Europe/Vienna
BEGIN:DAYLIGHT
TZOFFSETFROM:+0100
TZOFFSETTO:+0200
TZNAME:CEST
DTSTART:20230326T010000
END:DAYLIGHT
BEGIN:STANDARD
TZOFFSETFROM:+0200
TZOFFSETTO:+0100
TZNAME:CET
DTSTART:20231029T010000
END:STANDARD
BEGIN:DAYLIGHT
TZOFFSETFROM:+0100
TZOFFSETTO:+0200
TZNAME:CEST
DTSTART:20240331T010000
END:DAYLIGHT
BEGIN:STANDARD
TZOFFSETFROM:+0200
TZOFFSETTO:+0100
TZNAME:CET
DTSTART:20241027T010000
END:STANDARD
BEGIN:DAYLIGHT
TZOFFSETFROM:+0100
TZOFFSETTO:+0200
TZNAME:CEST
DTSTART:20250330T010000
END:DAYLIGHT
BEGIN:STANDARD
TZOFFSETFROM:+0200
TZOFFSETTO:+0100
TZNAME:CET
DTSTART:20251026T010000
END:STANDARD
END:VTIMEZONE
BEGIN:VEVENT
DTSTART;TZID=Europe/Vienna:20241122T170000
DTEND;TZID=Europe/Vienna:20241122T210000
DTSTAMP:20260420T193844
CREATED:20241028T132246Z
LAST-MODIFIED:20241028T132416Z
UID:10000251-1732294800-1732309200@www.wildshut.at
SUMMARY:Winterkonzert Philharmonie Salzburg
DESCRIPTION:Im Rahmen des diesjährigen Wildshut Slow Food Wintermarkt findet am Freitag\, 22.11.2024 ab 17 Uhr ein kleines\, feines Konzert der Philharmonie Salzburg statt. \nEmpfangen werden Sie mit Maroni und einem winterliches Getränk\, bevor Sie sich im Kramerladen zu einem 4-Gänge Menü einfinden.\nUnser Küchenteam bereitet ein abwechslungsreiches Menü zu\, welches unser Serviceteam mit den passenden Bio-Bieren begleitet. \nGedeck\n***\nSalzteigsellerie – Eigelb – Nussbutter – Wintertrüffel\n***\nFesttagssuppe mit verschiedenen Einlagen (alternativ vegetarische Gemüsesuppe)\n***\nEntenbrust – Rote Beete – Grünkohl – Kartoffel\nODER\nKarpfen – Kürbiscreme – Gnocchi\nODER\nKürbisteigtaschen – Petersilie – Ofenkürbis\n***\nPekanuss – Quitte – Süßkartoffeleis \nAls Hintergrundmusik erklingen vorweihnachtliche Musikstücke\, dargeboten von einem Quartett der Philharmonie Salzburg. \nDie Sitzplätze sind limitiert und eine Anmeldung unter biergut@wildshut.at erforderlich. \n4-Gänge inkl. Bierbegleitung (alternativ auch alkoholfrei) € 90 pro Person \n 
URL:https://www.wildshut.at/event/winterkonzert-philharmonie-salzburg/
CATEGORIES:Kulinarische Veranstaltungen
END:VEVENT
BEGIN:VEVENT
DTSTART;TZID=Europe/Vienna:20241123T130000
DTEND;TZID=Europe/Vienna:20241123T200000
DTSTAMP:20260420T193844
CREATED:20240912T064433Z
LAST-MODIFIED:20241029T103453Z
UID:10000239-1732366800-1732392000@www.wildshut.at
SUMMARY:Wildshut Wintermarkt
DESCRIPTION:In diesem Jahr veranstalten wir unseren Adventmarkt unter dem Motto “Slow Food“. \nZeit für gemeinsamen Genuss und regionale Traditionen – das verkörpert die Slow Food-Bewegung und das kulinarische Erlebnis am Stiegl-Gut Wildshut. Lassen Sie sich von der stimmungsvollen Atmosphäre des Guts verzaubern und entdecken Sie die kulinarische Vielfalt. Frisch gebackenes Brot\, zartes Wildfleisch\, die beliebten Wildshut-Bierspezialitäten und edlen Destillate sowie die feinen Produkte der Slow Food-Produzenten aus Österreich und Italien machen die Vorfreude auf die Festtage für Sie und Ihre Lieben zum Genuss. \nAbwechslungsreiches Rahmenprogramm für Groß und Kein: \nKrippen- und Krampusmasken-Ausstellung\nSamstag und Sonntag 14 – 19 Uhr \nGenuss-Brunch\nSonntag 10 – 13 Uhr\n€ 52\,- pro Person – Anmeldung erforderlich \nAdventkränze binden\nSamstag & Sonntag 13 – 17 Uhr\n€ 20\,- pro Kranz – Anmeldung erbeten \nSindri Puppentheater\nSamstag 15 Uhr – Kasperl und die Glocke Klingeling\nSonntag 14 – 17 Uhr – Kinderschminken & Herzenswunsch basteln \n  \nFreitag Abend\, 22.11.2024 ab 17 Uhr \nEs erwartet Sie ein außergewöhnliches kulinarisches Erlebnis\, welches von der Philharmonie Salzburg musikalisch begleitet wird. \nZum Empfang wird mit Maroni und einem winterliches Getränk gestartet\, bevor Sie sich im Kramerladen zu einem 4-Gänge Menü einfinden.\nUnser Küchenteam bereitet ein abwechslungsreiches Menü zu\, welches unser Serviceteam mit den passenden Bio-Bieren begleitet. \nDie Sitzplätze sind limitiert und eine Anmeldung unter biergut@wildshut.at erforderlich. \n4-Gänge inkl. Bierbegleitung (alternativ auch alkoholfrei) € 90 pro Person \nANFAHRT & PARKPLATZ\nWir empfehlen Ihnen die Anreise mit der Salzburger Lokalbahn.\nDie Haltestelle befindet sich fünf Gehminuten vom Gut entfernt. \nFahrplan Salzburger Lokalbahn \nParkplätze stehen vor Ort zur Verfügung – bitte folgen Sie den Instruktionen der Sicherheitsbeauftragten und den Beschilderungen vor Ort.\nEin Shuttle Service für die Parkplätze in Riedersbach ist eingerichtet. \n \n  \n 
URL:https://www.wildshut.at/event/wildshut-wintermarkt/2024-11-23/
CATEGORIES:Event am Biergut
END:VEVENT
BEGIN:VEVENT
DTSTART;TZID=Europe/Vienna:20241124T130000
DTEND;TZID=Europe/Vienna:20241124T200000
DTSTAMP:20260420T193844
CREATED:20240912T064433Z
LAST-MODIFIED:20241029T103453Z
UID:10000245-1732453200-1732478400@www.wildshut.at
SUMMARY:Wildshut Wintermarkt
DESCRIPTION:In diesem Jahr veranstalten wir unseren Adventmarkt unter dem Motto “Slow Food“. \nZeit für gemeinsamen Genuss und regionale Traditionen – das verkörpert die Slow Food-Bewegung und das kulinarische Erlebnis am Stiegl-Gut Wildshut. Lassen Sie sich von der stimmungsvollen Atmosphäre des Guts verzaubern und entdecken Sie die kulinarische Vielfalt. Frisch gebackenes Brot\, zartes Wildfleisch\, die beliebten Wildshut-Bierspezialitäten und edlen Destillate sowie die feinen Produkte der Slow Food-Produzenten aus Österreich und Italien machen die Vorfreude auf die Festtage für Sie und Ihre Lieben zum Genuss. \nAbwechslungsreiches Rahmenprogramm für Groß und Kein: \nKrippen- und Krampusmasken-Ausstellung\nSamstag und Sonntag 14 – 19 Uhr \nGenuss-Brunch\nSonntag 10 – 13 Uhr\n€ 52\,- pro Person – Anmeldung erforderlich \nAdventkränze binden\nSamstag & Sonntag 13 – 17 Uhr\n€ 20\,- pro Kranz – Anmeldung erbeten \nSindri Puppentheater\nSamstag 15 Uhr – Kasperl und die Glocke Klingeling\nSonntag 14 – 17 Uhr – Kinderschminken & Herzenswunsch basteln \n  \nFreitag Abend\, 22.11.2024 ab 17 Uhr \nEs erwartet Sie ein außergewöhnliches kulinarisches Erlebnis\, welches von der Philharmonie Salzburg musikalisch begleitet wird. \nZum Empfang wird mit Maroni und einem winterliches Getränk gestartet\, bevor Sie sich im Kramerladen zu einem 4-Gänge Menü einfinden.\nUnser Küchenteam bereitet ein abwechslungsreiches Menü zu\, welches unser Serviceteam mit den passenden Bio-Bieren begleitet. \nDie Sitzplätze sind limitiert und eine Anmeldung unter biergut@wildshut.at erforderlich. \n4-Gänge inkl. Bierbegleitung (alternativ auch alkoholfrei) € 90 pro Person \nANFAHRT & PARKPLATZ\nWir empfehlen Ihnen die Anreise mit der Salzburger Lokalbahn.\nDie Haltestelle befindet sich fünf Gehminuten vom Gut entfernt. \nFahrplan Salzburger Lokalbahn \nParkplätze stehen vor Ort zur Verfügung – bitte folgen Sie den Instruktionen der Sicherheitsbeauftragten und den Beschilderungen vor Ort.\nEin Shuttle Service für die Parkplätze in Riedersbach ist eingerichtet. \n \n  \n 
URL:https://www.wildshut.at/event/wildshut-wintermarkt/2024-11-24/
CATEGORIES:Event am Biergut
END:VEVENT
END:VCALENDAR